BEGIN:VCALENDAR
VERSION:2.0
PRODID:-//Online-Hauskreis - ECPv6.15.20//NONSGML v1.0//EN
CALSCALE:GREGORIAN
METHOD:PUBLISH
X-WR-CALNAME:Online-Hauskreis
X-ORIGINAL-URL:https://www.online-hauskreis.de
X-WR-CALDESC:Veranstaltungen für Online-Hauskreis
REFRESH-INTERVAL;VALUE=DURATION:PT1H
X-Robots-Tag:noindex
X-PUBLISHED-TTL:PT1H
BEGIN:VTIMEZONE
TZID:UTC
BEGIN:STANDARD
TZOFFSETFROM:+0000
TZOFFSETTO:+0000
TZNAME:UTC
DTSTART:20240101T000000
END:STANDARD
END:VTIMEZONE
BEGIN:VEVENT
DTSTART;TZID=UTC:20251102T200000
DTEND;TZID=UTC:20251102T210000
DTSTAMP:20260421T102832
CREATED:20251028T173027Z
LAST-MODIFIED:20251101T130220Z
UID:3530-1762113600-1762117200@www.online-hauskreis.de
SUMMARY:Themenabend 02.11.25
DESCRIPTION:Herzliche Einladung zum Themenabend am Sonntag\, 20:00 Uhr \n  \nAnbei herzliche Einladung für unseren kommenden Themenabend am Sonntag. \nThema: – offen. Was bewegt Euch? \nZum ZOOM-Meeting geht es hier: Am Themenabend online teilnehmen.\n  \nWir freuen uns\, mit Dir über die Bibel und unseren Herrn Jesus Christus zu sprechen. \nLos geht es ab 20:00 Uhr. Wir machen nicht länger als ein Stünd´chen\, aus Rücksicht auf die Arbeitswoche\, die ja morgen wieder losgeht. \nWie funktioniert Zoom? Informier Dich gern hier: KLICK (Wie funktioniert Zoom?) \nWer Fragen hat zu Glauben und Christentum kann diese auch in unserem FORUM stellen. Dort reden Christen mit Christen. \nPS: Habt Ihr Themen\, die Euch interessieren die wir am Sonntagsthemenabend behandeln sollten? Dann schreibt doch bitte eine E-Mail oder eine WhatsApp in die Gruppe.
URL:https://www.online-hauskreis.de/event/themenabend-02-11-25/
END:VEVENT
BEGIN:VEVENT
DTSTART;TZID=UTC:20251106T200000
DTEND;TZID=UTC:20251106T213000
DTSTAMP:20260421T102832
CREATED:20251101T130324Z
LAST-MODIFIED:20251104T183945Z
UID:3564-1762459200-1762464600@www.online-hauskreis.de
SUMMARY:Online-Hauskreis 06.11.25
DESCRIPTION:Herzliche Einladung zum Online-Hauskreis am Donnerstag\, 20:00 Uhr. \n  \nHallo zusammen\, \nwie immer findet diesen Donnerstag\, um 20:00 Uhr\, wieder unser Online-Hauskreis statt. \nAlle\, die teilnehmen möchten und gern Gemeinschaft mit Christen haben möchten\, sind herzlich gern eingeladen. Unser Online Hauskreis findet per Zoom statt. Das ist eine kostenlose Onlineplattform\, auf der Du und ich und wir alle\, uns gemeinsam online per Tablet\, Smartphone\, oder PC unterhalten können. \nWir haben als Thema: Der Prophet Jesaja. Wir sind in Kapitel 14 \nVon Dr. Vernon McGee gibt es hierzu eine tolle Reihe\, durch die ganze Bibel (im engl. Original „thru the Bible“): \n  \nhttps://www.online-hauskreis.de/wp-content/uploads/2025/11/TTB_0779_Isaiah.mp3\n\n\n\n\n\n\n\n\n\nDie Einladung zum Online-Hauskreis per Zoom findest Du hier: \nAm Online Hauskreis online teilnehmen (klicken)\n  \nWer mehr über den Online-Hauskreis erfahren möchte\, kann das hier tun: www.online-hauskreis.de. \nBitte gebt mir auch Bescheid\, wenn Ihr Gebetsanliegen habt. Die könnt ihr auch gern per E-Mail senden: info@online-hauskreis.de \nWer in JESAJA 14 kostenlos im Internet lesen möchte\, kann das hier kostenlos tun: KLICK \nDer Online-Hauskreis findet per Zoom statt. Los geht es am Donnerstag\, kurz vor 20:00 Uhr.
URL:https://www.online-hauskreis.de/event/online-hauskreis-06-11-25/
END:VEVENT
BEGIN:VEVENT
DTSTART;TZID=UTC:20251109T200000
DTEND;TZID=UTC:20251109T210000
DTSTAMP:20260421T102832
CREATED:20251104T184342Z
LAST-MODIFIED:20251108T152618Z
UID:3574-1762718400-1762722000@www.online-hauskreis.de
SUMMARY:Themenabend 09.11.25
DESCRIPTION:Herzliche Einladung zum Themenabend am Sonntag\, 20:00 Uhr \n  \nAnbei herzliche Einladung für unseren kommenden Themenabend am Sonntag. \nThema: – offen. Was bewegt Euch? \nZum ZOOM-Meeting geht es hier: Am Themenabend online teilnehmen.\n  \nWir freuen uns\, mit Dir über die Bibel und unseren Herrn Jesus Christus zu sprechen. \nLos geht es ab 20:00 Uhr. Wir machen nicht länger als ein Stünd´chen\, aus Rücksicht auf die Arbeitswoche\, die ja morgen wieder losgeht. \nWie funktioniert Zoom? Informier Dich gern hier: KLICK (Wie funktioniert Zoom?) \nWer Fragen hat zu Glauben und Christentum kann diese auch in unserem FORUM stellen. Dort reden Christen mit Christen. \nPS: Habt Ihr Themen\, die Euch interessieren die wir am Sonntagsthemenabend behandeln sollten? Dann schreibt doch bitte eine E-Mail oder eine WhatsApp in die Gruppe.
URL:https://www.online-hauskreis.de/event/themenabend-09-10-25/
END:VEVENT
BEGIN:VEVENT
DTSTART;TZID=UTC:20251113T200000
DTEND;TZID=UTC:20251113T214500
DTSTAMP:20260421T102832
CREATED:20251108T153236Z
LAST-MODIFIED:20251111T183342Z
UID:3582-1763064000-1763070300@www.online-hauskreis.de
SUMMARY:Online-Hauskreis mit Abendmahl (Für YouTube aufgezeichnet)
DESCRIPTION:Herzliche Einladung zum Online-Hauskreis am Donnerstag\, 20:00 Uhr. \n  \nHallo zusammen\, \nwie immer findet diesen Donnerstag\, um 20:00 Uhr\, wieder unser Online-Hauskreis statt. \nDieses Mal wieder mit gemeinsamem Abendmahl. \nAlso am besten ein Stück Brot 🥖 oder Brötchen und ein Schluck Wein oder Traubensaft 🍷 bereitstellen\, damit wir gemeinsam online das Abendmahl feiern. \nAlle\, die teilnehmen möchten und gern Gemeinschaft mit Christen haben möchten\, sind herzlich gern eingeladen. Unser Online Hauskreis findet per Zoom statt. Das ist eine kostenlose Onlineplattform\, auf der Du und ich und wir alle\, uns gemeinsam online per Tablet\, Smartphone\, oder PC unterhalten können. \nWir haben als Thema: Der Prophet Jesaja. Wir sind in Kapitel 15 \nVon Dr. Vernon McGee gibt es hierzu eine tolle Reihe\, durch die ganze Bibel (im engl. Original „thru the Bible“): \n  \nhttps://www.online-hauskreis.de/wp-content/uploads/2025/11/TTB_0780_Isaiah.mp3\n  \nDie Einladung zum Online-Hauskreis per Zoom findest Du hier: \nAm Online Hauskreis online teilnehmen (klicken)\n  \nWer mehr über den Online-Hauskreis erfahren möchte\, kann das hier tun: www.online-hauskreis.de. \nBitte gebt mir auch Bescheid\, wenn Ihr Gebetsanliegen habt. Die könnt ihr auch gern per E-Mail senden: info@online-hauskreis.de \nWer in JESAJA 15 kostenlos im Internet lesen möchte\, kann das hier kostenlos tun: KLICK \nDer Online-Hauskreis findet per Zoom statt. Los geht es am Donnerstag\, kurz vor 20:00 Uhr. \n  \nManche unserer Hauskreise\, wie auch dieser\, werden aufgezeichnet und dann zeitversetzt auf YouTube veröffentlicht. \nDas tun wir\, weil wir Andere an unserer Hauskreisgemeinschaft teilhaben möchten und weil wir Rede und Antwort stehen wollen\, bei Fragen zu Jesus und den Christlichen Glauben. \nAber nicht jeder Hauskreis wird auf YouTube veröffentlicht\, sondern nur ausgewählte. Im Schnitt ist es jeder vierte Haus-Kreis der veröffentlicht werden soll. Hauskreise\, die wir aufzeichnen\, um sie auf YouTube zu veröffentlichen werden bei unseren Terminen besonders markiert\, so dass jeder weiß\, dass dieser Hauskreis dann aufgezeichnet wird. So kann jeder sich entscheiden\, zu einem „Offline – Hauskreis“ zu kommen\, oder zu einem\, der aufgezeichnet werden soll. Niemand muss also bei seiner/ ihrer Teilnahme befürchten\, dass er/ sie auf YouTube zu sehen sein wird\, wenn er/ sie das nicht möchte. Im Gegenzug akzeptieren alle\, die an den „YouTube-Hauskreisen“ teilnehmen\, dass sie auf YouTube zu sehen sein werden. Nachträgliche Lösch-Wünsche können nicht umgesetzt werden. \nHinweis: Es kann aber auch stets die Kamera abgeschaltet werden\, sodass man nicht zu sehen ist. So könnte man dennoch bei einem YouTube-Hauskreis mitmachen\, aber wäre (wegen der ausgeschalteten Kamera) nicht zu sehen). \n Wir feiern gemeinsam das Abendmahl. Daher wäre es prima\, wenn Du ein Stück Brot und einem Schluck Wein / Traubensaft am Start hättest 😊 🥖🍷
URL:https://www.online-hauskreis.de/event/online-hauskreis-mit-abendmahl-fuer-youtube-aufgezeichnet/
END:VEVENT
BEGIN:VEVENT
DTSTART;TZID=UTC:20251116T200000
DTEND;TZID=UTC:20251116T210000
DTSTAMP:20260421T102832
CREATED:20251111T183956Z
LAST-MODIFIED:20251114T164427Z
UID:3591-1763323200-1763326800@www.online-hauskreis.de
SUMMARY:Themenabend 16.11.25
DESCRIPTION:Herzliche Einladung zum Themenabend am Sonntag\, 20:00 Uhr \n  \nAnbei herzliche Einladung für unseren kommenden Themenabend am Sonntag. \nThema: – Wie wir als Christen mit schweren Krankheiten umgehen sollten. \n  \nZum ZOOM-Meeting geht es hier: Am Themenabend online teilnehmen.\n  \nWir freuen uns\, mit Dir über die Bibel und unseren Herrn Jesus Christus zu sprechen. \nLos geht es ab 20:00 Uhr. Wir machen nicht länger als ein Stünd´chen\, aus Rücksicht auf die Arbeitswoche\, die ja morgen wieder losgeht. \nWie funktioniert Zoom? Informier Dich gern hier: KLICK (Wie funktioniert Zoom?) \nWer Fragen hat zu Glauben und Christentum kann diese auch in unserem FORUM stellen. Dort reden Christen mit Christen. \nPS: Habt Ihr Themen\, die Euch interessieren die wir am Sonntagsthemenabend behandeln sollten? Dann schreibt doch bitte eine E-Mail oder eine WhatsApp in die Gruppe.
URL:https://www.online-hauskreis.de/event/themenabend-16-11-25/
END:VEVENT
BEGIN:VEVENT
DTSTART;TZID=UTC:20251120T200000
DTEND;TZID=UTC:20251120T213000
DTSTAMP:20260421T102832
CREATED:20251114T164518Z
LAST-MODIFIED:20251120T180920Z
UID:3594-1763668800-1763674200@www.online-hauskreis.de
SUMMARY:Online-Hauskreis 20.11.25
DESCRIPTION:Herzliche Einladung zum Online-Hauskreis am Donnerstag\, 20:00 Uhr. \n  \nHallo zusammen\, \nwie immer findet diesen Donnerstag\, um 20:00 Uhr\, wieder unser Online-Hauskreis statt. \nAlle\, die teilnehmen möchten und gern Gemeinschaft mit Christen haben möchten\, sind herzlich gern eingeladen. Unser Online Hauskreis findet per Zoom statt. Das ist eine kostenlose Onlineplattform\, auf der Du und ich und wir alle\, uns gemeinsam online per Tablet\, Smartphone\, oder PC unterhalten können. \nWir haben als Thema: Der Prophet Jesaja. Wir sind in Kapitel 16 \nVon Dr. Vernon McGee gibt es hierzu eine tolle Reihe\, durch die ganze Bibel (im engl. Original „thru the Bible“): \n  \nhttps://www.online-hauskreis.de/wp-content/uploads/2025/11/TTB_0780_Isaiah-1.mp3\n  \nDie Einladung zum Online-Hauskreis per Zoom findest Du hier: \nAm Online Hauskreis online teilnehmen (klicken)\n  \nWer mehr über den Online-Hauskreis erfahren möchte\, kann das hier tun: www.online-hauskreis.de. \nBitte gebt mir auch Bescheid\, wenn Ihr Gebetsanliegen habt. Die könnt ihr auch gern per E-Mail senden: info@online-hauskreis.de \nWer in JESAJA 16 kostenlos im Internet lesen möchte\, kann das hier kostenlos tun: KLICK \nDer Online-Hauskreis findet per Zoom statt. Los geht es am Donnerstag\, kurz vor 20:00 Uhr. \nWer Fragen hat zu Glauben und Christentum kann diese auch in unserem FORUM stellen. Dort reden Christen mit Christen. \n 
URL:https://www.online-hauskreis.de/event/online-hauskreis-20-11-25/
END:VEVENT
BEGIN:VEVENT
DTSTART;TZID=UTC:20251123T200000
DTEND;TZID=UTC:20251123T210000
DTSTAMP:20260421T102832
CREATED:20251119T124251Z
LAST-MODIFIED:20251121T163805Z
UID:3601-1763928000-1763931600@www.online-hauskreis.de
SUMMARY:Themenabend 23.11.25
DESCRIPTION:Herzliche Einladung zum Themenabend am Sonntag\, 20:00 Uhr \n  \nAnbei herzliche Einladung für unseren kommenden Themenabend am Sonntag. \nThema: – Unterscheidung der Geister – 1. Johannes 4\,1:“Ihr Lieben\, glaubt nicht jedem Geist\, sondern prüft die Geister\, ob sie aus Gott sind; denn viele falsche Propheten sind in die Welt hinausgegangen.“ \nZum ZOOM-Meeting geht es hier: Am Themenabend online teilnehmen.\n  \nWir freuen uns\, mit Dir über die Bibel und unseren Herrn Jesus Christus zu sprechen. \nLos geht es ab 20:00 Uhr. Wir machen nicht länger als ein Stünd´chen\, aus Rücksicht auf die Arbeitswoche\, die ja morgen wieder losgeht. \nWie funktioniert Zoom? Informier Dich gern hier: KLICK (Wie funktioniert Zoom?) \nWer Fragen hat zu Glauben und Christentum kann diese auch in unserem FORUM stellen. Dort reden Christen mit Christen. \nPS: Habt Ihr Themen\, die Euch interessieren die wir am Sonntagsthemenabend behandeln sollten? Dann schreibt doch bitte eine E-Mail oder eine WhatsApp in die Gruppe.
URL:https://www.online-hauskreis.de/event/themenabend-23-11-25/
END:VEVENT
BEGIN:VEVENT
DTSTART;TZID=UTC:20251127T200000
DTEND;TZID=UTC:20251127T213000
DTSTAMP:20260421T102832
CREATED:20251121T153812Z
LAST-MODIFIED:20251126T173849Z
UID:3605-1764273600-1764279000@www.online-hauskreis.de
SUMMARY:Online-Hauskreis 27.11.25
DESCRIPTION:Herzliche Einladung zum Online-Hauskreis am Donnerstag\, 20:00 Uhr. \n  \nHallo zusammen\, \nwie immer findet diesen Donnerstag\, um 20:00 Uhr\, wieder unser Online-Hauskreis statt. \nAlle\, die teilnehmen möchten und gern Gemeinschaft mit Christen haben möchten\, sind herzlich gern eingeladen. Unser Online Hauskreis findet per Zoom statt. Das ist eine kostenlose Onlineplattform\, auf der Du und ich und wir alle\, uns gemeinsam online per Tablet\, Smartphone\, oder PC unterhalten können. \nWir haben als Thema: Der Prophet Jesaja.  \nVon Dr. Vernon McGee gibt es hierzu eine tolle Reihe\, durch die ganze Bibel (im engl. Original „thru the Bible“): \nhttps://www.online-hauskreis.de/wp-content/uploads/2025/11/TTB_0781_Isaiah.mp3\n  \nDie Einladung zum Online-Hauskreis per Zoom findest Du hier: \nAm Online Hauskreis online teilnehmen (klicken)\n  \nWer mehr über den Online-Hauskreis erfahren möchte\, kann das hier tun: www.online-hauskreis.de. \nBitte gebt mir auch Bescheid\, wenn Ihr Gebetsanliegen habt. Die könnt ihr auch gern per E-Mail senden: info@online-hauskreis.de \nWer in JESAJA 19 kostenlos im Internet lesen möchte\, kann das hier kostenlos tun: KLICK \nDer Online-Hauskreis findet per Zoom statt. Los geht es am Donnerstag\, kurz vor 20:00 Uhr. \nWer Fragen hat zu Glauben und Christentum kann diese auch in unserem FORUM stellen. Dort reden Christen mit Christen.
URL:https://www.online-hauskreis.de/event/online-hauskreis-27-11-25/
END:VEVENT
BEGIN:VEVENT
DTSTART;TZID=UTC:20251130T200000
DTEND;TZID=UTC:20251130T210000
DTSTAMP:20260421T102832
CREATED:20251126T174010Z
LAST-MODIFIED:20251129T124425Z
UID:3613-1764532800-1764536400@www.online-hauskreis.de
SUMMARY:Themenabend 30.11.25
DESCRIPTION:Herzliche Einladung zum Themenabend am Sonntag\, 20:00 Uhr \n  \nAnbei herzliche Einladung für unseren kommenden Themenabend am Sonntag. \nThema: – offen. Was bewegt Euch? \nZum ZOOM-Meeting geht es hier: Am Themenabend online teilnehmen.\n  \nWir freuen uns\, mit Dir über die Bibel und unseren Herrn Jesus Christus zu sprechen. \nLos geht es ab 20:00 Uhr. Wir machen nicht länger als ein Stünd´chen\, aus Rücksicht auf die Arbeitswoche\, die ja morgen wieder losgeht. \nWie funktioniert Zoom? Informier Dich gern hier: KLICK (Wie funktioniert Zoom?) \nWer Fragen hat zu Glauben und Christentum kann diese auch in unserem FORUM stellen. Dort reden Christen mit Christen. \nPS: Habt Ihr Themen\, die Euch interessieren die wir am Sonntagsthemenabend behandeln sollten? Dann schreibt doch bitte eine E-Mail oder eine WhatsApp in die Gruppe.
URL:https://www.online-hauskreis.de/event/themenabend-30-11-25/
END:VEVENT
END:VCALENDAR