BEGIN:VCALENDAR
VERSION:2.0
PRODID:-//Online-Hauskreis - ECPv6.15.20//NONSGML v1.0//EN
CALSCALE:GREGORIAN
METHOD:PUBLISH
X-WR-CALNAME:Online-Hauskreis
X-ORIGINAL-URL:https://www.online-hauskreis.de
X-WR-CALDESC:Veranstaltungen für Online-Hauskreis
REFRESH-INTERVAL;VALUE=DURATION:PT1H
X-Robots-Tag:noindex
X-PUBLISHED-TTL:PT1H
BEGIN:VTIMEZONE
TZID:UTC
BEGIN:STANDARD
TZOFFSETFROM:+0000
TZOFFSETTO:+0000
TZNAME:UTC
DTSTART:20240101T000000
END:STANDARD
END:VTIMEZONE
BEGIN:VEVENT
DTSTART;TZID=UTC:20251002T200000
DTEND;TZID=UTC:20251002T213000
DTSTAMP:20260421T121857
CREATED:20250926T165537Z
LAST-MODIFIED:20250930T154747Z
UID:3434-1759435200-1759440600@www.online-hauskreis.de
SUMMARY:Online-Hauskreis 02.10.25
DESCRIPTION:Hallo zusammen\, \nwie immer findet diesen Donnerstag\, um 20:00 Uhr\, wieder unser Online-Hauskreis statt. \n\nAlle\, die teilnehmen möchten und gern Gemeinschaft mit Christen haben möchten\, sind herzlich gern eingeladen. Unser Online Hauskreis findet per Zoom statt. Das ist eine kostenlose Onlineplattform\, auf der Du und ich und wir alle\, uns gemeinsam online per Tablet\, Smartphone\, oder PC unterhalten können. \nWir haben als Thema: Der Prophet Jesaja. Wir sind in Kapitel 8\nVon Dr. Vernon McGee gibt es hierzu eine tolle Reihe\, durch die ganze Bibel (im engl. Original „thru the Bible“).\nAnbei eine Audio Datei von Dr. McGee zum Kapitel 8 zum Anhören: \nhttps://www.online-hauskreis.de/wp-content/uploads/2025/09/TTB_0773_Isaiah.mp3\n\n\nDie Einladung zum Online-Hauskreis per Zoom findest Du hier: \nAm Online Hauskreis online teilnehmen (klicken)\n\n\nWer mehr über den Online-Hauskreis erfahren möchte\, kann das hier tun: www.online-hauskreis.de. \nBitte gebt mir auch Bescheid\, wenn Ihr Gebetsanliegen habt. Die könnt ihr auch gern per E-Mail senden: info@online-hauskreis.de \nWer in JESAJA 8  kostenlos im Internet lesen möchte\, kann das hier kostenlos tun: KLICK\nDer Online-Hauskreis findet per Zoom statt. Los geht es am Donnerstag\, kurz vor 20:00 Uhr.
URL:https://www.online-hauskreis.de/event/online-hauskreis-02-10-25/
END:VEVENT
BEGIN:VEVENT
DTSTART;TZID=UTC:20251005T200000
DTEND;TZID=UTC:20251005T210000
DTSTAMP:20260421T121857
CREATED:20250930T154908Z
LAST-MODIFIED:20251003T162659Z
UID:3446-1759694400-1759698000@www.online-hauskreis.de
SUMMARY:Themenabend 05.10.25
DESCRIPTION:Herzliche Einladung zum Themenabend am Sonntag\, 20:00 Uhr \n  \nAnbei herzliche Einladung für unseren kommenden Themenabend am Sonntag. \nThema: – offen. \nZum ZOOM-Meeting geht es hier: Am Themenabend online teilnehmen.\n  \nWir freuen uns\, mit Dir über die Bibel und unseren Herrn Jesus Christus zu sprechen. \nLos geht es ab 20:00 Uhr. Wir machen nicht länger als ein Stünd´chen\, aus Rücksicht auf die Arbeitswoche\, die ja morgen wieder losgeht. \nWie funktioniert Zoom? Informier Dich gern hier: KLICK (Wie funktioniert Zoom?) \nWer Fragen hat zu Glauben und Christentum kann diese auch in unserem FORUM stellen. Dort reden Christen mit Christen. \nPS: Habt Ihr Themen\, die Euch interessieren die wir am Sonntagsthemenabend behandeln sollten? Dann schreibt doch bitte eine E-Mail oder eine WhatsApp in die Gruppe.
URL:https://www.online-hauskreis.de/event/themenabend-05-10-25/
END:VEVENT
BEGIN:VEVENT
DTSTART;TZID=UTC:20251009T200000
DTEND;TZID=UTC:20251009T213000
DTSTAMP:20260421T121857
CREATED:20251003T162812Z
LAST-MODIFIED:20251006T130530Z
UID:3478-1760040000-1760045400@www.online-hauskreis.de
SUMMARY:YouTube-Online-Hauskreis 09.10.25
DESCRIPTION:Hallo zusammen\, \nwie immer findet diesen Donnerstag\, um 20:00 Uhr\, wieder unser Online-Hauskreis statt. \nDieses Mal zeichnen wir den Hauskreis wieder für YouTube auf \n\nAlle\, die teilnehmen möchten und gern Gemeinschaft mit Christen haben möchten\, sind herzlich gern eingeladen. Unser Online Hauskreis findet per Zoom statt. Das ist eine kostenlose Onlineplattform\, auf der Du und ich und wir alle\, uns gemeinsam online per Tablet\, Smartphone\, oder PC unterhalten können. \nWir haben als Thema: Der Prophet Jesaja. Wir sind in Kapitel 9\nVon Dr. Vernon McGee gibt es hierzu eine tolle Reihe\, durch die ganze Bibel (im engl. Original „thru the Bible“).\nAnbei eine Audio Datei von Dr. McGee zum Kapitel 9 zum Anhören: \n  \nhttps://www.online-hauskreis.de/wp-content/uploads/2025/10/TTB_0774_Isaiah.mp3\n\n\n\n\n\n\n\n\n\n\n\n  \nDie Einladung zum Online-Hauskreis per Zoom findest Du hier: \nAm Online Hauskreis online teilnehmen (klicken)\n\n\nWer mehr über den Online-Hauskreis erfahren möchte\, kann das hier tun: www.online-hauskreis.de. \nBitte gebt mir auch Bescheid\, wenn Ihr Gebetsanliegen habt. Die könnt ihr auch gern per E-Mail senden: info@online-hauskreis.de \nWer in JESAJA 9  kostenlos im Internet lesen möchte\, kann das hier kostenlos tun: KLICK\nDer Online-Hauskreis findet per Zoom statt. Los geht es am Donnerstag\, kurz vor 20:00 Uhr.\n \nManche unserer Hauskreise\, wie auch dieser\, werden auf YouTube veröffentlicht. \nDas tun wir\, weil wir Andere an unserer Hauskreisgemeinschaft teilhaben möchten und weil wir Rede und Antwort stehen wollen\, bei Fragen zu Jesus und den Christlichen Glauben. \nAber nicht jeder Hauskreis wird auf YouTube veröffentlicht\, sondern nur ausgewählte. Im Schnitt ist es jeder vierte Haus-Kreis der veröffentlicht werden soll. Hauskreise\, die wir aufzeichnen\, um sie auf YouTube zu veröffentlichen werden bei unseren Terminen besonders markiert\, so dass jeder weiß\, dass dieser Hauskreis dann aufgezeichnet wird. So kann jeder sich entscheiden\, zu einem „Offline – Hauskreis“ zu kommen\, oder zu einem\, der aufgezeichnet werden soll. Niemand muss also bei seiner/ ihrer Teilnahme befürchten\, dass er/ sie auf YouTube zu sehen sein wird\, wenn er/ sie das nicht möchte. Im Gegenzug akzeptieren alle\, die an den „YouTube-Hauskreisen“ teilnehmen\, dass sie auf YouTube zu sehen sein werden. Nachträgliche Lösch-Wünsche können nicht umgesetzt werden. \nHinweis: Es kann aber auch stets die Kamera abgeschaltet werden\, sodass man nicht zu sehen ist. So könnte man dennoch bei einem YouTube-Hauskreis mitmachen\, aber wäre (wegen der ausgeschalteten Kamera) nicht zu sehen).
URL:https://www.online-hauskreis.de/event/youtube-online-hauskreis-09-10-25/
END:VEVENT
BEGIN:VEVENT
DTSTART;TZID=UTC:20251012T200000
DTEND;TZID=UTC:20251012T210000
DTSTAMP:20260421T121857
CREATED:20251006T130149Z
LAST-MODIFIED:20251010T141248Z
UID:3484-1760299200-1760302800@www.online-hauskreis.de
SUMMARY:Themenabend 12.10.25
DESCRIPTION:Herzliche Einladung zum Themenabend am Sonntag\, 20:00 Uhr \n  \nAnbei herzliche Einladung für unseren kommenden Themenabend am Sonntag. \nThema: – offen. \nZum ZOOM-Meeting geht es hier: Am Themenabend online teilnehmen.\n  \nWir freuen uns\, mit Dir über die Bibel und unseren Herrn Jesus Christus zu sprechen. \nLos geht es ab 20:00 Uhr. Wir machen nicht länger als ein Stünd´chen\, aus Rücksicht auf die Arbeitswoche\, die ja morgen wieder losgeht. \nWie funktioniert Zoom? Informier Dich gern hier: KLICK (Wie funktioniert Zoom?) \nWer Fragen hat zu Glauben und Christentum kann diese auch in unserem FORUM stellen. Dort reden Christen mit Christen. \nPS: Habt Ihr Themen\, die Euch interessieren die wir am Sonntagsthemenabend behandeln sollten? Dann schreibt doch bitte eine E-Mail oder eine WhatsApp in die Gruppe.
URL:https://www.online-hauskreis.de/event/themenabend-12-10-25/
END:VEVENT
BEGIN:VEVENT
DTSTART;TZID=UTC:20251016T200000
DTEND;TZID=UTC:20251016T213000
DTSTAMP:20260421T121857
CREATED:20251010T141408Z
LAST-MODIFIED:20251014T133003Z
UID:3490-1760644800-1760650200@www.online-hauskreis.de
SUMMARY:Online-Hauskreis mit Abendmahl 16.10.25
DESCRIPTION:Herzliche Einladung zum Online-Hauskreis am Donnerstag\, 20:00 Uhr. \n  \nHallo zusammen\, \nwie immer findet diesen Donnerstag\, um 20:00 Uhr\, wieder unser Online-Hauskreis statt. \nDieses Mal wieder mit gemeinsamem Abendmahl. \nAlso am besten ein Stück Brot 🥖 oder Brötchen und ein Schluck Wein oder Traubensaft 🍷 bereitstellen\, damit wir gemeinsam online das Abendmahl feiern. \nAlle\, die teilnehmen möchten und gern Gemeinschaft mit Christen haben möchten\, sind herzlich gern eingeladen. Unser Online Hauskreis findet per Zoom statt. Das ist eine kostenlose Onlineplattform\, auf der Du und ich und wir alle\, uns gemeinsam online per Tablet\, Smartphone\, oder PC unterhalten können. \nWir haben als Thema: Der Prophet Jesaja. Wir sind in Kapitel 10 \n Von Dr. Vernon McGee gibt es hierzu eine tolle Reihe\, durch die ganze Bibel (im engl. Original „thru the Bible“): \nhttps://www.online-hauskreis.de/wp-content/uploads/2025/10/TTB_0775_Isaiah.mp3\n  \nDie Einladung zum Online-Hauskreis per Zoom findest Du hier: \n  \nAm Online Hauskreis online teilnehmen (klicken)\n  \nWer mehr über den Online-Hauskreis erfahren möchte\, kann das hier tun: www.online-hauskreis.de. \nBitte gebt mir auch Bescheid\, wenn Ihr Gebetsanliegen habt. Die könnt ihr auch gern per E-Mail senden: info@online-hauskreis.de \nWer in JESAJA 10 kostenlos im Internet lesen möchte\, kann das hier kostenlos tun: KLICK \nDer Online-Hauskreis findet per Zoom statt. Los geht es am Donnerstag\, kurz vor 20:00 Uhr. \nWir feiern gemeinsam das Abendmahl. Daher wäre es prima\, wenn Du ein Stück Brot und einem Schluck Wein / Traubensaft am Start hättest 😊 🥖🍷
URL:https://www.online-hauskreis.de/event/online-hauskreis-mit-abendmahl-16-10-25/
END:VEVENT
BEGIN:VEVENT
DTSTART;TZID=UTC:20251019T200000
DTEND;TZID=UTC:20251019T210000
DTSTAMP:20260421T121857
CREATED:20251014T133200Z
LAST-MODIFIED:20251016T153258Z
UID:3510-1760904000-1760907600@www.online-hauskreis.de
SUMMARY:Themenabend 19.10.25
DESCRIPTION:Herzliche Einladung zum Themenabend am Sonntag\, 20:00 Uhr \n  \nAnbei herzliche Einladung für unseren kommenden Themenabend am Sonntag. \nThema: – offen. \nZum ZOOM-Meeting geht es hier: Am Themenabend online teilnehmen.\n  \nWir freuen uns\, mit Dir über die Bibel und unseren Herrn Jesus Christus zu sprechen. \nLos geht es ab 20:00 Uhr. Wir machen nicht länger als ein Stünd´chen\, aus Rücksicht auf die Arbeitswoche\, die ja morgen wieder losgeht. \nWie funktioniert Zoom? Informier Dich gern hier: KLICK (Wie funktioniert Zoom?) \nWer Fragen hat zu Glauben und Christentum kann diese auch in unserem FORUM stellen. Dort reden Christen mit Christen. \nPS: Habt Ihr Themen\, die Euch interessieren die wir am Sonntagsthemenabend behandeln sollten? Dann schreibt doch bitte eine E-Mail oder eine WhatsApp in die Gruppe.
URL:https://www.online-hauskreis.de/event/themenabend-19-10-25/
END:VEVENT
BEGIN:VEVENT
DTSTART;TZID=UTC:20251023T200000
DTEND;TZID=UTC:20251023T213000
DTSTAMP:20260421T121857
CREATED:20251021T165149Z
LAST-MODIFIED:20251021T165149Z
UID:3517-1761249600-1761255000@www.online-hauskreis.de
SUMMARY:Online-Hauskreis 23.10.25
DESCRIPTION:Herzliche Einladung zum Online-Hauskreis am Donnerstag\, 20:00 Uhr. \n  \nHallo zusammen\, \nwie immer findet diesen Donnerstag\, um 20:00 Uhr\, wieder unser Online-Hauskreis statt. \nAlle\, die teilnehmen möchten und gern Gemeinschaft mit Christen haben möchten\, sind herzlich gern eingeladen. Unser Online Hauskreis findet per Zoom statt. Das ist eine kostenlose Onlineplattform\, auf der Du und ich und wir alle\, uns gemeinsam online per Tablet\, Smartphone\, oder PC unterhalten können. \nWir haben als Thema: Der Prophet Jesaja. Wir sind in Kapitel 11 \nVon Dr. Vernon McGee gibt es hierzu eine tolle Reihe\, durch die ganze Bibel (im engl. Original „thru the Bible“): \nhttps://www.online-hauskreis.de/wp-content/uploads/2025/10/TTB_0776_Isaiah.mp3\nDie Einladung zum Online-Hauskreis per Zoom findest Du hier: \n  \nAm Online Hauskreis online teilnehmen (klicken)\n  \nWer mehr über den Online-Hauskreis erfahren möchte\, kann das hier tun: www.online-hauskreis.de. \nBitte gebt mir auch Bescheid\, wenn Ihr Gebetsanliegen habt. Die könnt ihr auch gern per E-Mail senden: info@online-hauskreis.de \nWer in JESAJA 11 kostenlos im Internet lesen möchte\, kann das hier kostenlos tun: KLICK \nDer Online-Hauskreis findet per Zoom statt. Los geht es am Donnerstag\, kurz vor 20:00 Uhr. \n 
URL:https://www.online-hauskreis.de/event/online-hauskreis-23-10-25/
END:VEVENT
BEGIN:VEVENT
DTSTART;TZID=UTC:20251026T200000
DTEND;TZID=UTC:20251026T210000
DTSTAMP:20260421T121857
CREATED:20251021T165307Z
LAST-MODIFIED:20251024T155620Z
UID:3520-1761508800-1761512400@www.online-hauskreis.de
SUMMARY:Themenabend 26.10.25
DESCRIPTION:Herzliche Einladung zum Themenabend am Sonntag\, 20:00 Uhr \n  \nAnbei herzliche Einladung für unseren kommenden Themenabend am Sonntag. \nThema: – offen. Was bewegt Euch? \nZum ZOOM-Meeting geht es hier: Am Themenabend online teilnehmen.\n  \nWir freuen uns\, mit Dir über die Bibel und unseren Herrn Jesus Christus zu sprechen. \nLos geht es ab 20:00 Uhr. Wir machen nicht länger als ein Stünd´chen\, aus Rücksicht auf die Arbeitswoche\, die ja morgen wieder losgeht. \nWie funktioniert Zoom? Informier Dich gern hier: KLICK (Wie funktioniert Zoom?) \nWer Fragen hat zu Glauben und Christentum kann diese auch in unserem FORUM stellen. Dort reden Christen mit Christen. \nPS: Habt Ihr Themen\, die Euch interessieren die wir am Sonntagsthemenabend behandeln sollten? Dann schreibt doch bitte eine E-Mail oder eine WhatsApp in die Gruppe.
URL:https://www.online-hauskreis.de/event/themenabend-26-10-25/
END:VEVENT
BEGIN:VEVENT
DTSTART;TZID=UTC:20251030T210000
DTEND;TZID=UTC:20251030T213000
DTSTAMP:20260421T121857
CREATED:20251024T155735Z
LAST-MODIFIED:20251028T172925Z
UID:3523-1761858000-1761859800@www.online-hauskreis.de
SUMMARY:Online-Hauskreis 30.10.25
DESCRIPTION:Herzliche Einladung zum Online-Hauskreis am Donnerstag\, 20:00 Uhr. \n  \nHallo zusammen\, \nwie immer findet diesen Donnerstag\, um 20:00 Uhr\, wieder unser Online-Hauskreis statt. \nAlle\, die teilnehmen möchten und gern Gemeinschaft mit Christen haben möchten\, sind herzlich gern eingeladen. Unser Online Hauskreis findet per Zoom statt. Das ist eine kostenlose Onlineplattform\, auf der Du und ich und wir alle\, uns gemeinsam online per Tablet\, Smartphone\, oder PC unterhalten können. \nWir haben als Thema: Der Prophet Jesaja. Wir sind in Kapitel 12 \nVon Dr. Vernon McGee gibt es hierzu eine tolle Reihe\, durch die ganze Bibel (im engl. Original „thru the Bible“): \nhttps://www.online-hauskreis.de/wp-content/uploads/2025/10/TTB_0777_Isaiah-1.mp3\n\n\n\n\n\nDie Einladung zum Online-Hauskreis per Zoom findest Du hier: \nAm Online Hauskreis online teilnehmen (klicken)\n  \nWer mehr über den Online-Hauskreis erfahren möchte\, kann das hier tun: www.online-hauskreis.de. \nBitte gebt mir auch Bescheid\, wenn Ihr Gebetsanliegen habt. Die könnt ihr auch gern per E-Mail senden: info@online-hauskreis.de \nWer in JESAJA 12 kostenlos im Internet lesen möchte\, kann das hier kostenlos tun: KLICK \nDer Online-Hauskreis findet per Zoom statt. Los geht es am Donnerstag\, kurz vor 20:00 Uhr.
URL:https://www.online-hauskreis.de/event/online-hauskreis-30-10-25/
END:VEVENT
END:VCALENDAR