BEGIN:VCALENDAR
VERSION:2.0
PRODID:-//Online-Hauskreis - ECPv6.15.20//NONSGML v1.0//EN
CALSCALE:GREGORIAN
METHOD:PUBLISH
X-ORIGINAL-URL:https://www.online-hauskreis.de
X-WR-CALDESC:Veranstaltungen für Online-Hauskreis
REFRESH-INTERVAL;VALUE=DURATION:PT1H
X-Robots-Tag:noindex
X-PUBLISHED-TTL:PT1H
BEGIN:VTIMEZONE
TZID:UTC
BEGIN:STANDARD
TZOFFSETFROM:+0000
TZOFFSETTO:+0000
TZNAME:UTC
DTSTART:20240101T000000
END:STANDARD
END:VTIMEZONE
BEGIN:VEVENT
DTSTART;TZID=UTC:20250904T200000
DTEND;TZID=UTC:20250904T213000
DTSTAMP:20260421T133820
CREATED:20250829T142039Z
LAST-MODIFIED:20250901T170015Z
UID:3312-1757016000-1757021400@www.online-hauskreis.de
SUMMARY:Online-Hauskreis 04.09.25
DESCRIPTION:Hallo zusammen\, \nwie immer findet diesen Donnerstag\, um 20:00 Uhr\, wieder unser Online-Hauskreis statt. \n\nAlle\, die teilnehmen möchten und gern Gemeinschaft mit Christen haben möchten\, sind herzlich gern eingeladen. Unser Online Hauskreis findet per Zoom statt. Das ist eine kostenlose Onlineplattform\, auf der Du und ich und wir alle\, uns gemeinsam online per Tablet\, Smartphone\, oder PC unterhalten können. \nWir haben ein neues Thema: Der Prophet Jesaja Kapitel 4\nVon Dr. Vernon McGee gibt es hierzu eine tolle Reihe\, durch die ganze Bibel (im engl. Original „thru the Bible“).\n  \nhttps://www.online-hauskreis.de/wp-content/uploads/2025/08/TTB_0767_Isaiah-1.mp3\n\n\n\n\nDie Einladung zum Online-Hauskreis per Zoom findest Du hier: \nAm Online Hauskreis online teilnehmen (klicken)\n\n\nWer mehr über den Online-Hauskreis erfahren möchte\, kann das hier tun: www.online-hauskreis.de. \nBitte gebt mir auch Bescheid\, wenn Ihr Gebetsanliegen habt. Die könnt ihr auch gern per E-Mail senden: info@online-hauskreis.de \nWer in JESAJA 4  kostenlos im Internet lesen möchte\, kann das hier kostenlos tun: KLICK\nDer Online-Hauskreis findet per Zoom statt. Los geht es am Donnerstag\, kurz vor 20:00 Uhr.
URL:https://www.online-hauskreis.de/event/online-hauskreis-04-09-25/
END:VEVENT
BEGIN:VEVENT
DTSTART;TZID=UTC:20250907T200000
DTEND;TZID=UTC:20250907T210000
DTSTAMP:20260421T133820
CREATED:20250901T170130Z
LAST-MODIFIED:20250905T131634Z
UID:3317-1757275200-1757278800@www.online-hauskreis.de
SUMMARY:Themenabend 07.09.25
DESCRIPTION:Herzliche Einladung zum Themenabend am Sonntag\, 20:00 Uhr \n  \nAnbei herzliche Einladung für unseren kommenden Themenabend am Sonntag. \nThema: – Ertragt einander. Wie wir als Christen miteinander umgehen sollten. \n  \nZum ZOOM-Meeting geht es hier: Am Themenabend online teilnehmen.\n  \nWir freuen uns\, mit Dir über die Bibel und unseren Herrn Jesus Christus zu sprechen. \nLos geht es ab 20:00 Uhr. Wir machen nicht länger als ein Stünd´chen\, aus Rücksicht auf die Arbeitswoche\, die ja morgen wieder losgeht. \nWie funktioniert Zoom? Informier Dich gern hier: KLICK (Wie funktioniert Zoom?) \n  \nPS: Habt Ihr Themen\, die Euch interessieren die wir am Sonntagsthemenabend behandeln sollten? Dann schreibt doch bitte eine E-Mail oder eine WhatsApp in die Gruppe.
URL:https://www.online-hauskreis.de/event/themenabend-07-09-25/
END:VEVENT
BEGIN:VEVENT
DTSTART;TZID=UTC:20250911T200000
DTEND;TZID=UTC:20250911T213000
DTSTAMP:20260421T133820
CREATED:20250905T131740Z
LAST-MODIFIED:20250909T180754Z
UID:3321-1757620800-1757626200@www.online-hauskreis.de
SUMMARY:Online-Hauskreis 11.09.25
DESCRIPTION:Hallo zusammen\, \nwie immer findet diesen Donnerstag\, um 20:00 Uhr\, wieder unser Online-Hauskreis statt. \n\nAlle\, die teilnehmen möchten und gern Gemeinschaft mit Christen haben möchten\, sind herzlich gern eingeladen. Unser Online Hauskreis findet per Zoom statt. Das ist eine kostenlose Onlineplattform\, auf der Du und ich und wir alle\, uns gemeinsam online per Tablet\, Smartphone\, oder PC unterhalten können. \nWir haben ein neues Thema: Der Prophet Jesaja Kapitel 5\nVon Dr. Vernon McGee gibt es hierzu eine tolle Reihe\, durch die ganze Bibel (im engl. Original „thru the Bible“).\n  \nhttps://www.online-hauskreis.de/wp-content/uploads/2025/09/TTB_0768_Isaiah.mp3\n\n\n\nDie Einladung zum Online-Hauskreis per Zoom findest Du hier: \nAm Online Hauskreis online teilnehmen (klicken)\n\n\nWer mehr über den Online-Hauskreis erfahren möchte\, kann das hier tun: www.online-hauskreis.de. \nBitte gebt mir auch Bescheid\, wenn Ihr Gebetsanliegen habt. Die könnt ihr auch gern per E-Mail senden: info@online-hauskreis.de \nWer in JESAJA 5  kostenlos im Internet lesen möchte\, kann das hier kostenlos tun: KLICK\nDer Online-Hauskreis findet per Zoom statt. Los geht es am Donnerstag\, kurz vor 20:00 Uhr.
URL:https://www.online-hauskreis.de/event/online-hauskreis-11-09-25/
END:VEVENT
BEGIN:VEVENT
DTSTART;TZID=UTC:20250914T200000
DTEND;TZID=UTC:20250914T210000
DTSTAMP:20260421T133820
CREATED:20250909T180849Z
LAST-MODIFIED:20250912T175052Z
UID:3326-1757880000-1757883600@www.online-hauskreis.de
SUMMARY:Themenabend 14.09.25
DESCRIPTION:Herzliche Einladung zum Themenabend am Sonntag\, 20:00 Uhr \n  \nAnbei herzliche Einladung für unseren kommenden Themenabend am Sonntag. \nThema: – Auf „Nummer Sicher“ gehen mit Jesus Christus \n  \nZum ZOOM-Meeting geht es hier: Am Themenabend online teilnehmen.\n  \nWir freuen uns\, mit Dir über die Bibel und unseren Herrn Jesus Christus zu sprechen. \nLos geht es ab 20:00 Uhr. Wir machen nicht länger als ein Stünd´chen\, aus Rücksicht auf die Arbeitswoche\, die ja morgen wieder losgeht. \nWie funktioniert Zoom? Informier Dich gern hier: KLICK (Wie funktioniert Zoom?) \n  \nPS: Habt Ihr Themen\, die Euch interessieren die wir am Sonntagsthemenabend behandeln sollten? Dann schreibt doch bitte eine E-Mail oder eine WhatsApp in die Gruppe.
URL:https://www.online-hauskreis.de/event/themenabend-14-09-25/
END:VEVENT
BEGIN:VEVENT
DTSTART;TZID=UTC:20250918T200000
DTEND;TZID=UTC:20250918T213000
DTSTAMP:20260421T133820
CREATED:20250912T175208Z
LAST-MODIFIED:20250916T172309Z
UID:3329-1758225600-1758231000@www.online-hauskreis.de
SUMMARY:Online-Hauskreis mit Abendmahl 18.09.25
DESCRIPTION:Hallo zusammen\, \nwie immer findet diesen Donnerstag\, um 20:00 Uhr\, wieder unser Online-Hauskreis statt. \nDieses Mal ist wieder das gemeinsame Abendmahl dabei. \n\nAlle\, die teilnehmen möchten und gern Gemeinschaft mit Christen haben möchten\, sind herzlich gern eingeladen. Unser Online Hauskreis findet per Zoom statt. Das ist eine kostenlose Onlineplattform\, auf der Du und ich und wir alle\, uns gemeinsam online per Tablet\, Smartphone\, oder PC unterhalten können. \nWir haben ein neues Thema: Der Prophet Jesaja Kapitel 6\nVon Dr. Vernon McGee gibt es hierzu eine tolle Reihe\, durch die ganze Bibel (im engl. Original „thru the Bible“).\nAnbei zwei Audio Dateien von Dr. McGee zum Kapitel 6: \n  \n\n\n\n\n\nhttps://www.online-hauskreis.de/wp-content/uploads/2025/09/TTB_0769_Isaiah.mp3\n\n\n\n\n\n\n\nund noch eine Audiodatei zu Jesaja 6:\n\n\n\nhttps://www.online-hauskreis.de/wp-content/uploads/2025/09/TTB_0770_Isaiah.mp3\nDie Einladung zum Online-Hauskreis per Zoom findest Du hier: \nAm Online Hauskreis online teilnehmen (klicken)\n\n\nWer mehr über den Online-Hauskreis erfahren möchte\, kann das hier tun: www.online-hauskreis.de. \nBitte gebt mir auch Bescheid\, wenn Ihr Gebetsanliegen habt. Die könnt ihr auch gern per E-Mail senden: info@online-hauskreis.de \nWer in JESAJA 6  kostenlos im Internet lesen möchte\, kann das hier kostenlos tun: KLICK\nDer Online-Hauskreis findet per Zoom statt. Los geht es am Donnerstag\, kurz vor 20:00 Uhr. \nPS: Wir feiern wieder Abendmahl. Insofern wäre es wie immer prima\, wenn Du ein Stück Brot und einen Schluck Wein oder Traubensaft am Start hättest  \n🥖🍷
URL:https://www.online-hauskreis.de/event/online-hauskreis-mit-abendmahl-18-09-25/
END:VEVENT
BEGIN:VEVENT
DTSTART;TZID=UTC:20250921T200000
DTEND;TZID=UTC:20250921T210000
DTSTAMP:20260421T133820
CREATED:20250916T171959Z
LAST-MODIFIED:20250919T085411Z
UID:3347-1758484800-1758488400@www.online-hauskreis.de
SUMMARY:Themenabend 21.09.25 (YouTube)
DESCRIPTION:Herzliche Einladung zum Themenabend am Sonntag\, 20:00 Uhr \n  \nAnbei herzliche Einladung für unseren kommenden Themenabend am Sonntag. \nThema: – Unser allererster YouTube- Online Hauskreis. Dieser Themenabend wird etwas Besonderes sein. Es geht darum\, dass wir zum ersten Mal ein Video aufnehmen\, welches wir denn nach einem Zusammenschnitt auch nachher bei YouTube veröffentlichen. Wir haben einen eigenen Youtubekanal für unseren Hauskreis\, wie ihr schon wisst. Daher wird als Thema einfach mal sein\, wer wir sind\, seit wann es uns gibt und was wir tun und das regelmäßig Inhalte auf unserem Kanal veröffentlicht werden und dass wir offen sind für alle Menschen\, die Jesus Christus kennenlernen möchten. Und natürlich auch für diese\, die ihn bereits kennen. Um mit ihnen gemeinsam online Gemeinschaft zu haben 🙏🏻 \nZum ZOOM-Meeting geht es hier: Am Themenabend online teilnehmen.\n  \nWir freuen uns\, mit Dir über die Bibel und unseren Herrn Jesus Christus zu sprechen. \nLos geht es ab 20:00 Uhr. Wir machen nicht länger als ein Stünd´chen\, aus Rücksicht auf die Arbeitswoche\, die ja morgen wieder losgeht. \nWie funktioniert Zoom? Informier Dich gern hier: KLICK (Wie funktioniert Zoom?) \n  \nPS: Habt Ihr Themen\, die Euch interessieren die wir am Sonntagsthemenabend behandeln sollten? Dann schreibt doch bitte eine E-Mail oder eine WhatsApp in die Gruppe.
URL:https://www.online-hauskreis.de/event/themenabend-21-09-25-youtube/
END:VEVENT
BEGIN:VEVENT
DTSTART;TZID=UTC:20250925T200000
DTEND;TZID=UTC:20250925T213000
DTSTAMP:20260421T133820
CREATED:20250919T085744Z
LAST-MODIFIED:20250924T144935Z
UID:3358-1758830400-1758835800@www.online-hauskreis.de
SUMMARY:Online-Hauskreis 25.09.25
DESCRIPTION:Hallo zusammen\, \nwie immer findet diesen Donnerstag\, um 20:00 Uhr\, wieder unser Online-Hauskreis statt. \n\nAlle\, die teilnehmen möchten und gern Gemeinschaft mit Christen haben möchten\, sind herzlich gern eingeladen. Unser Online Hauskreis findet per Zoom statt. Das ist eine kostenlose Onlineplattform\, auf der Du und ich und wir alle\, uns gemeinsam online per Tablet\, Smartphone\, oder PC unterhalten können. \nWir haben ein neues Thema: Der Prophet Jesaja. Wir sind in Kapitel 7\nVon Dr. Vernon McGee gibt es hierzu eine tolle Reihe\, durch die ganze Bibel (im engl. Original „thru the Bible“).\nAnbei zwei Audio Dateien von Dr. McGee zum Kapitel 7: \n\n  \nhttps://www.online-hauskreis.de/wp-content/uploads/2025/09/TTB_0771_Isaiah.mp3\nhttps://www.online-hauskreis.de/wp-content/uploads/2025/09/TTB_0772_Isaiah.mp3\n  \n\nDie Einladung zum Online-Hauskreis per Zoom findest Du hier: \nAm Online Hauskreis online teilnehmen (klicken)\n\n\nWer mehr über den Online-Hauskreis erfahren möchte\, kann das hier tun: www.online-hauskreis.de. \nBitte gebt mir auch Bescheid\, wenn Ihr Gebetsanliegen habt. Die könnt ihr auch gern per E-Mail senden: info@online-hauskreis.de \nWer in JESAJA 7  kostenlos im Internet lesen möchte\, kann das hier kostenlos tun: KLICK\nDer Online-Hauskreis findet per Zoom statt. Los geht es am Donnerstag\, kurz vor 20:00 Uhr.
URL:https://www.online-hauskreis.de/event/online-hauskreis-25-09-25/
END:VEVENT
BEGIN:VEVENT
DTSTART;TZID=UTC:20250928T200000
DTEND;TZID=UTC:20250928T213000
DTSTAMP:20260421T133820
CREATED:20250924T145045Z
LAST-MODIFIED:20250926T165441Z
UID:3366-1759089600-1759095000@www.online-hauskreis.de
SUMMARY:Themenabend 28.09.25
DESCRIPTION:Herzliche Einladung zum Themenabend am Sonntag\, 20:00 Uhr \n  \nAnbei herzliche Einladung für unseren kommenden Themenabend am Sonntag. \nThema: – Gesetz & Glaube. \nZum ZOOM-Meeting geht es hier: Am Themenabend online teilnehmen.\n  \nWir freuen uns\, mit Dir über die Bibel und unseren Herrn Jesus Christus zu sprechen. \nLos geht es ab 20:00 Uhr. Wir machen nicht länger als ein Stünd´chen\, aus Rücksicht auf die Arbeitswoche\, die ja morgen wieder losgeht. \nWie funktioniert Zoom? Informier Dich gern hier: KLICK (Wie funktioniert Zoom?) \n  \nPS: Habt Ihr Themen\, die Euch interessieren die wir am Sonntagsthemenabend behandeln sollten? Dann schreibt doch bitte eine E-Mail oder eine WhatsApp in die Gruppe.
URL:https://www.online-hauskreis.de/event/themenabend-28-09-25/
END:VEVENT
END:VCALENDAR