BEGIN:VCALENDAR
VERSION:2.0
PRODID:-//Online-Hauskreis - ECPv6.15.20//NONSGML v1.0//EN
CALSCALE:GREGORIAN
METHOD:PUBLISH
X-ORIGINAL-URL:https://www.online-hauskreis.de
X-WR-CALDESC:Veranstaltungen für Online-Hauskreis
REFRESH-INTERVAL;VALUE=DURATION:PT1H
X-Robots-Tag:noindex
X-PUBLISHED-TTL:PT1H
BEGIN:VTIMEZONE
TZID:UTC
BEGIN:STANDARD
TZOFFSETFROM:+0000
TZOFFSETTO:+0000
TZNAME:UTC
DTSTART:20240101T000000
END:STANDARD
END:VTIMEZONE
BEGIN:VEVENT
DTSTART;TZID=UTC:20250601T200000
DTEND;TZID=UTC:20250601T210000
DTSTAMP:20260423T120414
CREATED:20250528T132040Z
LAST-MODIFIED:20250530T140559Z
UID:3141-1748808000-1748811600@www.online-hauskreis.de
SUMMARY:Themenabend 01.06.25
DESCRIPTION:Herzliche Einladung zum Themenabend am Sonntag\, 20:00 Uhr \n  \nAnbei herzliche Einladung für unseren kommenden Themenabend am Sonntag. \nThema:  \nnoch offen \nZum ZOOM-Meeting geht es hier: Am Themenabend online teilnehmen.\n  \nWir freuen uns\, mit Dir über die Bibel und unseren Herrn Jesus Christus zu sprechen. \nLos geht es ab 20:00 Uhr. Wir machen nicht länger als ein Stünd´chen\, aus Rücksicht auf die Arbeitswoche\, die ja morgen wieder losgeht. \nWie funktioniert Zoom? Informier Dich gern hier: KLICK (Wie funktioniert Zoom?) \n  \nPS: Habt Ihr Themen\, die Euch interessieren die wir am Sonntagsthemenabend behandeln sollten? Dann schreibt doch bitte eine E-Mail oder eine WhatsApp in die Gruppe.
URL:https://www.online-hauskreis.de/event/themenabend-01-06-25/
END:VEVENT
BEGIN:VEVENT
DTSTART;TZID=UTC:20250605T200000
DTEND;TZID=UTC:20250605T213000
DTSTAMP:20260423T120414
CREATED:20250530T140745Z
LAST-MODIFIED:20250603T160939Z
UID:3144-1749153600-1749159000@www.online-hauskreis.de
SUMMARY:Online-Hauskreis 05.06.25
DESCRIPTION:Hallo zusammen\, \nwie immer findet diesen Donnerstag\, um 20:00 Uhr\, wieder unser Online-Hauskreis statt. \n\nAlle\, die teilnehmen möchten und gern Gemeinschaft mit Christen haben möchten\, sind herzlich gern eingeladen. Unser Online Hauskreis findet per Zoom statt. Das ist eine kostenlose Onlineplattform\, auf der Du und ich und wir alle\, uns gemeinsam online per Tablet\, Smartphone\, oder PC unterhalten können. \nWir sind im Lukas-Evangelium.\nVon unserem Freund\, Jürgen Fischer\, von frogwords\, gibt es dazu eine Predigtreihe\, hier: Lukas 21:\n \n\n\nDie Einladung zum Online-Hauskreis per Zoom findest Du hier: \nAm Online Hauskreis online teilnehmen (klicken)\n\n\n  \nWer mehr über den Online-Hauskreis erfahren möchte\, kann das hier tun: www.online-hauskreis.de. \nBitte gebt mir auch Bescheid\, wenn Ihr Gebetsanliegen habt. Die könnt ihr auch gern per E-Mail senden: info@online-hauskreis.de \nWer im Evangelium nach Lukas\, Kapitel 21\, kostenlos im Internet lesen möchte\, kann das hier kostenlos tun: KLICK\nDer Online-Hauskreis findet per Zoom statt. Los geht es am Donnerstag\, kurz vor 20:00 Uhr.
URL:https://www.online-hauskreis.de/event/online-hauskreis-05-06-25/
END:VEVENT
BEGIN:VEVENT
DTSTART;TZID=UTC:20250608T200000
DTEND;TZID=UTC:20250608T210000
DTSTAMP:20260423T120414
CREATED:20250603T160641Z
LAST-MODIFIED:20250606T181956Z
UID:3182-1749412800-1749416400@www.online-hauskreis.de
SUMMARY:Themenabend 08.06.25
DESCRIPTION:Herzliche Einladung zum Themenabend am Sonntag\, 20:00 Uhr \n  \nAnbei herzliche Einladung für unseren kommenden Themenabend am Sonntag. \nThema:  \nnoch offen \nZum ZOOM-Meeting geht es hier: Am Themenabend online teilnehmen.\n  \nWir freuen uns\, mit Dir über die Bibel und unseren Herrn Jesus Christus zu sprechen. \nLos geht es ab 20:00 Uhr. Wir machen nicht länger als ein Stünd´chen\, aus Rücksicht auf die Arbeitswoche\, die ja morgen wieder losgeht. \nWie funktioniert Zoom? Informier Dich gern hier: KLICK (Wie funktioniert Zoom?) \n  \nPS: Habt Ihr Themen\, die Euch interessieren die wir am Sonntagsthemenabend behandeln sollten? Dann schreibt doch bitte eine E-Mail oder eine WhatsApp in die Gruppe.
URL:https://www.online-hauskreis.de/event/themenabend-08-06-25/
END:VEVENT
BEGIN:VEVENT
DTSTART;TZID=UTC:20250612T200000
DTEND;TZID=UTC:20250612T213000
DTSTAMP:20260423T120414
CREATED:20250606T182056Z
LAST-MODIFIED:20250610T183013Z
UID:3186-1749758400-1749763800@www.online-hauskreis.de
SUMMARY:Online-Hauskreis 12.06.25
DESCRIPTION:Hallo zusammen\, \nwie immer findet diesen Donnerstag\, um 20:00 Uhr\, wieder unser Online-Hauskreis statt. \n\nAlle\, die teilnehmen möchten und gern Gemeinschaft mit Christen haben möchten\, sind herzlich gern eingeladen. Unser Online Hauskreis findet per Zoom statt. Das ist eine kostenlose Onlineplattform\, auf der Du und ich und wir alle\, uns gemeinsam online per Tablet\, Smartphone\, oder PC unterhalten können. \nWir sind im Lukas-Evangelium.\nVon unserem Freund\, Jürgen Fischer\, von frogwords\, gibt es dazu eine Predigtreihe\, hier: Lukas 22:\n\n \n  \n\nDie Einladung zum Online-Hauskreis per Zoom findest Du hier: \nAm Online Hauskreis online teilnehmen (klicken)\n\n\n  \nWer mehr über den Online-Hauskreis erfahren möchte\, kann das hier tun: www.online-hauskreis.de. \nBitte gebt mir auch Bescheid\, wenn Ihr Gebetsanliegen habt. Die könnt ihr auch gern per E-Mail senden: info@online-hauskreis.de \nWer im Evangelium nach Lukas\, Kapitel 22\, kostenlos im Internet lesen möchte\, kann das hier kostenlos tun: KLICK\nDer Online-Hauskreis findet per Zoom statt. Los geht es am Donnerstag\, kurz vor 20:00 Uhr.
URL:https://www.online-hauskreis.de/event/online-hauskreis-12-06-25/
END:VEVENT
BEGIN:VEVENT
DTSTART;TZID=UTC:20250615T200000
DTEND;TZID=UTC:20250615T210000
DTSTAMP:20260423T120414
CREATED:20250610T183105Z
LAST-MODIFIED:20250613T133930Z
UID:3190-1750017600-1750021200@www.online-hauskreis.de
SUMMARY:Themenabend 15.06.25
DESCRIPTION:Herzliche Einladung zum Themenabend am Sonntag\, 20:00 Uhr \n  \nAnbei herzliche Einladung für unseren kommenden Themenabend am Sonntag. \nThema:  \n– Aufstieg und Fall König Salomos (Diskussion über Bibelstellen AT) (Danke an Stefan für den Themenvorschlag). \nZum ZOOM-Meeting geht es hier: Am Themenabend online teilnehmen.\n  \nWir freuen uns\, mit Dir über die Bibel und unseren Herrn Jesus Christus zu sprechen. \nLos geht es ab 20:00 Uhr. Wir machen nicht länger als ein Stünd´chen\, aus Rücksicht auf die Arbeitswoche\, die ja morgen wieder losgeht. \nWie funktioniert Zoom? Informier Dich gern hier: KLICK (Wie funktioniert Zoom?) \n  \nPS: Habt Ihr Themen\, die Euch interessieren die wir am Sonntagsthemenabend behandeln sollten? Dann schreibt doch bitte eine E-Mail oder eine WhatsApp in die Gruppe.
URL:https://www.online-hauskreis.de/event/themenabend-15-06-25/
END:VEVENT
BEGIN:VEVENT
DTSTART;TZID=UTC:20250619T200000
DTEND;TZID=UTC:20250619T213000
DTSTAMP:20260423T120414
CREATED:20250613T134041Z
LAST-MODIFIED:20250618T180553Z
UID:3195-1750363200-1750368600@www.online-hauskreis.de
SUMMARY:Online-Hauskreis mit Abendmahl 19.06.25
DESCRIPTION:Hallo zusammen\, \nwie immer findet diesen Donnerstag\, um 20:00 Uhr\, wieder unser Online-Hauskreis statt. \nDieses Mal ist wieder das gemeinsame Abendmahl dabei. \n\nAlle\, die teilnehmen möchten und gern Gemeinschaft mit Christen haben möchten\, sind herzlich gern eingeladen. Unser Online Hauskreis findet per Zoom statt. Das ist eine kostenlose Onlineplattform\, auf der Du und ich und wir alle\, uns gemeinsam online per Tablet\, Smartphone\, oder PC unterhalten können. \nWir sind im Lukas-Evangelium.\nVon unserem Freund\, Jürgen Fischer\, von frogwords\, gibt es dazu eine Predigtreihe\, hier: Lukas 22:\n \n\n\nDie Einladung zum Online-Hauskreis per Zoom findest Du hier: \nAm Online Hauskreis online teilnehmen (klicken)\n\n\nWer mehr über den Online-Hauskreis erfahren möchte\, kann das hier tun: www.online-hauskreis.de. \nBitte gebt mir auch Bescheid\, wenn Ihr Gebetsanliegen habt. Die könnt ihr auch gern per E-Mail senden: info@online-hauskreis.de \nWer im Evangelium nach Lukas\, Kapitel 22\, kostenlos im Internet lesen möchte\, kann das hier kostenlos tun: KLICK\nDer Online-Hauskreis findet per Zoom statt. Los geht es am Donnerstag\, kurz vor 20:00 Uhr. \nPS: Wir feiern wieder Abendmahl. Insofern wäre es wie immer prima\, wenn Du ein Stück Brot und einen Schluck Wein oder Traubensaft am Start hättest \n🥖🍷
URL:https://www.online-hauskreis.de/event/online-hauskreis-mit-abendmahl-19-06-25/
END:VEVENT
BEGIN:VEVENT
DTSTART;TZID=UTC:20250622T200000
DTEND;TZID=UTC:20250622T210000
DTSTAMP:20260423T120414
CREATED:20250618T180446Z
LAST-MODIFIED:20250620T144521Z
UID:3219-1750622400-1750626000@www.online-hauskreis.de
SUMMARY:Themenabend 22.06.25
DESCRIPTION:Herzliche Einladung zum Themenabend am Sonntag\, 20:00 Uhr \n  \nAnbei herzliche Einladung für unseren kommenden Themenabend am Sonntag. \nThema:  \n– noch offen. Vorschläge? \nZum ZOOM-Meeting geht es hier: Am Themenabend online teilnehmen.\n  \nWir freuen uns\, mit Dir über die Bibel und unseren Herrn Jesus Christus zu sprechen. \nLos geht es ab 20:00 Uhr. Wir machen nicht länger als ein Stünd´chen\, aus Rücksicht auf die Arbeitswoche\, die ja morgen wieder losgeht. \nWie funktioniert Zoom? Informier Dich gern hier: KLICK (Wie funktioniert Zoom?) \n  \nPS: Habt Ihr Themen\, die Euch interessieren die wir am Sonntagsthemenabend behandeln sollten? Dann schreibt doch bitte eine E-Mail oder eine WhatsApp in die Gruppe.
URL:https://www.online-hauskreis.de/event/themenabend-22-06-25/
END:VEVENT
BEGIN:VEVENT
DTSTART;TZID=UTC:20250626T200000
DTEND;TZID=UTC:20250626T213000
DTSTAMP:20260423T120414
CREATED:20250620T144626Z
LAST-MODIFIED:20250625T120021Z
UID:3224-1750968000-1750973400@www.online-hauskreis.de
SUMMARY:Online-Hauskreis 26.06.25
DESCRIPTION:Hallo zusammen\, \nwie immer findet diesen Donnerstag\, um 20:00 Uhr\, wieder unser Online-Hauskreis statt. \n\nAlle\, die teilnehmen möchten und gern Gemeinschaft mit Christen haben möchten\, sind herzlich gern eingeladen. Unser Online Hauskreis findet per Zoom statt. Das ist eine kostenlose Onlineplattform\, auf der Du und ich und wir alle\, uns gemeinsam online per Tablet\, Smartphone\, oder PC unterhalten können. \nWir sind im Lukas-Evangelium.\nVon unserem Freund\, Jürgen Fischer\, von frogwords\, gibt es dazu eine Predigtreihe\, hier: Lukas 22:\n\n \n  \n\nDie Einladung zum Online-Hauskreis per Zoom findest Du hier: \nAm Online Hauskreis online teilnehmen (klicken)\n\n\nWer mehr über den Online-Hauskreis erfahren möchte\, kann das hier tun: www.online-hauskreis.de. \nBitte gebt mir auch Bescheid\, wenn Ihr Gebetsanliegen habt. Die könnt ihr auch gern per E-Mail senden: info@online-hauskreis.de \nWer im Evangelium nach Lukas\, Kapitel 22\, kostenlos im Internet lesen möchte\, kann das hier kostenlos tun: KLICK\nDer Online-Hauskreis findet per Zoom statt. Los geht es am Donnerstag\, kurz vor 20:00 Uhr.
URL:https://www.online-hauskreis.de/event/online-hauskreis-26-06-25/
END:VEVENT
BEGIN:VEVENT
DTSTART;TZID=UTC:20250629T200000
DTEND;TZID=UTC:20250629T210000
DTSTAMP:20260423T120414
CREATED:20250625T120112Z
LAST-MODIFIED:20250628T072441Z
UID:3228-1751227200-1751230800@www.online-hauskreis.de
SUMMARY:Themenabend 29.06.25
DESCRIPTION:Herzliche Einladung zum Themenabend am Sonntag\, 20:00 Uhr \n  \nAnbei herzliche Einladung für unseren kommenden Themenabend am Sonntag. \nThema:  \n– Charismatiker bis Konservative. Unterschiede und Gemeinsamkeiten. \n  \nZum ZOOM-Meeting geht es hier: Am Themenabend online teilnehmen.\n  \nWir freuen uns\, mit Dir über die Bibel und unseren Herrn Jesus Christus zu sprechen. \nLos geht es ab 20:00 Uhr. Wir machen nicht länger als ein Stünd´chen\, aus Rücksicht auf die Arbeitswoche\, die ja morgen wieder losgeht. \nWie funktioniert Zoom? Informier Dich gern hier: KLICK (Wie funktioniert Zoom?) \n  \nPS: Habt Ihr Themen\, die Euch interessieren die wir am Sonntagsthemenabend behandeln sollten? Dann schreibt doch bitte eine E-Mail oder eine WhatsApp in die Gruppe.
URL:https://www.online-hauskreis.de/event/themenabend-29-06-25/
END:VEVENT
END:VCALENDAR