BEGIN:VCALENDAR
VERSION:2.0
PRODID:-//Online-Hauskreis - ECPv6.15.20//NONSGML v1.0//EN
CALSCALE:GREGORIAN
METHOD:PUBLISH
X-WR-CALNAME:Online-Hauskreis
X-ORIGINAL-URL:https://www.online-hauskreis.de
X-WR-CALDESC:Veranstaltungen für Online-Hauskreis
REFRESH-INTERVAL;VALUE=DURATION:PT1H
X-Robots-Tag:noindex
X-PUBLISHED-TTL:PT1H
BEGIN:VTIMEZONE
TZID:UTC
BEGIN:STANDARD
TZOFFSETFROM:+0000
TZOFFSETTO:+0000
TZNAME:UTC
DTSTART:20240101T000000
END:STANDARD
END:VTIMEZONE
BEGIN:VEVENT
DTSTART;TZID=UTC:20251113T200000
DTEND;TZID=UTC:20251113T214500
DTSTAMP:20260421T115057
CREATED:20251108T153236Z
LAST-MODIFIED:20251111T183342Z
UID:3582-1763064000-1763070300@www.online-hauskreis.de
SUMMARY:Online-Hauskreis mit Abendmahl (Für YouTube aufgezeichnet)
DESCRIPTION:Herzliche Einladung zum Online-Hauskreis am Donnerstag\, 20:00 Uhr. \n  \nHallo zusammen\, \nwie immer findet diesen Donnerstag\, um 20:00 Uhr\, wieder unser Online-Hauskreis statt. \nDieses Mal wieder mit gemeinsamem Abendmahl. \nAlso am besten ein Stück Brot 🥖 oder Brötchen und ein Schluck Wein oder Traubensaft 🍷 bereitstellen\, damit wir gemeinsam online das Abendmahl feiern. \nAlle\, die teilnehmen möchten und gern Gemeinschaft mit Christen haben möchten\, sind herzlich gern eingeladen. Unser Online Hauskreis findet per Zoom statt. Das ist eine kostenlose Onlineplattform\, auf der Du und ich und wir alle\, uns gemeinsam online per Tablet\, Smartphone\, oder PC unterhalten können. \nWir haben als Thema: Der Prophet Jesaja. Wir sind in Kapitel 15 \nVon Dr. Vernon McGee gibt es hierzu eine tolle Reihe\, durch die ganze Bibel (im engl. Original „thru the Bible“): \n  \nhttps://www.online-hauskreis.de/wp-content/uploads/2025/11/TTB_0780_Isaiah.mp3\n  \nDie Einladung zum Online-Hauskreis per Zoom findest Du hier: \nAm Online Hauskreis online teilnehmen (klicken)\n  \nWer mehr über den Online-Hauskreis erfahren möchte\, kann das hier tun: www.online-hauskreis.de. \nBitte gebt mir auch Bescheid\, wenn Ihr Gebetsanliegen habt. Die könnt ihr auch gern per E-Mail senden: info@online-hauskreis.de \nWer in JESAJA 15 kostenlos im Internet lesen möchte\, kann das hier kostenlos tun: KLICK \nDer Online-Hauskreis findet per Zoom statt. Los geht es am Donnerstag\, kurz vor 20:00 Uhr. \n  \nManche unserer Hauskreise\, wie auch dieser\, werden aufgezeichnet und dann zeitversetzt auf YouTube veröffentlicht. \nDas tun wir\, weil wir Andere an unserer Hauskreisgemeinschaft teilhaben möchten und weil wir Rede und Antwort stehen wollen\, bei Fragen zu Jesus und den Christlichen Glauben. \nAber nicht jeder Hauskreis wird auf YouTube veröffentlicht\, sondern nur ausgewählte. Im Schnitt ist es jeder vierte Haus-Kreis der veröffentlicht werden soll. Hauskreise\, die wir aufzeichnen\, um sie auf YouTube zu veröffentlichen werden bei unseren Terminen besonders markiert\, so dass jeder weiß\, dass dieser Hauskreis dann aufgezeichnet wird. So kann jeder sich entscheiden\, zu einem „Offline – Hauskreis“ zu kommen\, oder zu einem\, der aufgezeichnet werden soll. Niemand muss also bei seiner/ ihrer Teilnahme befürchten\, dass er/ sie auf YouTube zu sehen sein wird\, wenn er/ sie das nicht möchte. Im Gegenzug akzeptieren alle\, die an den „YouTube-Hauskreisen“ teilnehmen\, dass sie auf YouTube zu sehen sein werden. Nachträgliche Lösch-Wünsche können nicht umgesetzt werden. \nHinweis: Es kann aber auch stets die Kamera abgeschaltet werden\, sodass man nicht zu sehen ist. So könnte man dennoch bei einem YouTube-Hauskreis mitmachen\, aber wäre (wegen der ausgeschalteten Kamera) nicht zu sehen). \n Wir feiern gemeinsam das Abendmahl. Daher wäre es prima\, wenn Du ein Stück Brot und einem Schluck Wein / Traubensaft am Start hättest 😊 🥖🍷
URL:https://www.online-hauskreis.de/event/online-hauskreis-mit-abendmahl-fuer-youtube-aufgezeichnet/
END:VEVENT
END:VCALENDAR