BEGIN:VCALENDAR
VERSION:2.0
PRODID:-//Online-Hauskreis - ECPv6.15.20//NONSGML v1.0//EN
CALSCALE:GREGORIAN
METHOD:PUBLISH
X-WR-CALNAME:Online-Hauskreis
X-ORIGINAL-URL:https://www.online-hauskreis.de
X-WR-CALDESC:Veranstaltungen für Online-Hauskreis
REFRESH-INTERVAL;VALUE=DURATION:PT1H
X-Robots-Tag:noindex
X-PUBLISHED-TTL:PT1H
BEGIN:VTIMEZONE
TZID:UTC
BEGIN:STANDARD
TZOFFSETFROM:+0000
TZOFFSETTO:+0000
TZNAME:UTC
DTSTART:20240101T000000
END:STANDARD
END:VTIMEZONE
BEGIN:VEVENT
DTSTART;TZID=UTC:20250703T200000
DTEND;TZID=UTC:20250703T213000
DTSTAMP:20260423T120043
CREATED:20250628T072544Z
LAST-MODIFIED:20250702T134114Z
UID:3232-1751572800-1751578200@www.online-hauskreis.de
SUMMARY:Online-Hauskreis 03.07.25
DESCRIPTION:Hallo zusammen\, \nwie immer findet diesen Donnerstag\, um 20:00 Uhr\, wieder unser Online-Hauskreis statt. \n\nAlle\, die teilnehmen möchten und gern Gemeinschaft mit Christen haben möchten\, sind herzlich gern eingeladen. Unser Online Hauskreis findet per Zoom statt. Das ist eine kostenlose Onlineplattform\, auf der Du und ich und wir alle\, uns gemeinsam online per Tablet\, Smartphone\, oder PC unterhalten können. \nWir sind im Lukas-Evangelium.\nVon unserem Freund\, Jürgen Fischer\, von frogwords\, gibt es dazu eine Predigtreihe\, hier: Lukas 23:\n\n \n\nDie Einladung zum Online-Hauskreis per Zoom findest Du hier: \nAm Online Hauskreis online teilnehmen (klicken)\n\n\nWer mehr über den Online-Hauskreis erfahren möchte\, kann das hier tun: www.online-hauskreis.de. \nBitte gebt mir auch Bescheid\, wenn Ihr Gebetsanliegen habt. Die könnt ihr auch gern per E-Mail senden: info@online-hauskreis.de \nWer im Evangelium nach Lukas\, Kapitel 23\, kostenlos im Internet lesen möchte\, kann das hier kostenlos tun: KLICK\nDer Online-Hauskreis findet per Zoom statt. Los geht es am Donnerstag\, kurz vor 20:00 Uhr.
URL:https://www.online-hauskreis.de/event/online-hauskreis-03-07-25/
END:VEVENT
END:VCALENDAR